BEGIN:VCALENDAR
VERSION:2.0
PRODID:-//Cordele Motor Speedway - ECPv6.15.20//NONSGML v1.0//EN
CALSCALE:GREGORIAN
METHOD:PUBLISH
X-WR-CALNAME:Cordele Motor Speedway
X-ORIGINAL-URL:https://cordelemotorspeedway.com
X-WR-CALDESC:Events for Cordele Motor Speedway
REFRESH-INTERVAL;VALUE=DURATION:PT1H
X-Robots-Tag:noindex
X-PUBLISHED-TTL:PT1H
BEGIN:VTIMEZONE
TZID:America/New_York
BEGIN:DAYLIGHT
TZOFFSETFROM:-0500
TZOFFSETTO:-0400
TZNAME:EDT
DTSTART:20250309T070000
END:DAYLIGHT
BEGIN:STANDARD
TZOFFSETFROM:-0400
TZOFFSETTO:-0500
TZNAME:EST
DTSTART:20251102T060000
END:STANDARD
BEGIN:DAYLIGHT
TZOFFSETFROM:-0500
TZOFFSETTO:-0400
TZNAME:EDT
DTSTART:20260308T070000
END:DAYLIGHT
BEGIN:STANDARD
TZOFFSETFROM:-0400
TZOFFSETTO:-0500
TZNAME:EST
DTSTART:20261101T060000
END:STANDARD
BEGIN:DAYLIGHT
TZOFFSETFROM:-0500
TZOFFSETTO:-0400
TZNAME:EDT
DTSTART:20270314T070000
END:DAYLIGHT
BEGIN:STANDARD
TZOFFSETFROM:-0400
TZOFFSETTO:-0500
TZNAME:EST
DTSTART:20271107T060000
END:STANDARD
END:VTIMEZONE
BEGIN:VEVENT
DTSTART;VALUE=DATE:20260508
DTEND;VALUE=DATE:20260510
DTSTAMP:20260421T110956
CREATED:20260106T135143Z
LAST-MODIFIED:20260106T135143Z
UID:15324-1778198400-1778371199@cordelemotorspeedway.com
SUMMARY:Must See Racing Sprint Car Series
DESCRIPTION:Featuring Winged Sprint Cars\, Crown Vics\, Pure Stocks\, Legends\, Bandoleros\, Enduros\, Mini Stocks
URL:https://cordelemotorspeedway.com/event/must-see-racing-sprint-car-series/
END:VEVENT
BEGIN:VEVENT
DTSTART;VALUE=DATE:20260529
DTEND;VALUE=DATE:20260531
DTSTAMP:20260421T110956
CREATED:20260106T135215Z
LAST-MODIFIED:20260106T135215Z
UID:15323-1780012800-1780185599@cordelemotorspeedway.com
SUMMARY:SuperFest Race #3 (Double Points For Largest Local Class)
DESCRIPTION:Featuring Super Late Models\, Pro Trucks\, Outlaws\, Enduros\, Mini Stocks\, Legends\, Bandoleros\, & Pure Stocks
URL:https://cordelemotorspeedway.com/event/superfest-race-3-double-points-for-largest-local-class/
END:VEVENT
END:VCALENDAR