BEGIN:VCALENDAR
VERSION:2.0
PRODID:-//Cordele Motor Speedway - ECPv6.15.20//NONSGML v1.0//EN
CALSCALE:GREGORIAN
METHOD:PUBLISH
X-ORIGINAL-URL:https://cordelemotorspeedway.com
X-WR-CALDESC:Events for Cordele Motor Speedway
REFRESH-INTERVAL;VALUE=DURATION:PT1H
X-Robots-Tag:noindex
X-PUBLISHED-TTL:PT1H
BEGIN:VTIMEZONE
TZID:America/New_York
BEGIN:DAYLIGHT
TZOFFSETFROM:-0500
TZOFFSETTO:-0400
TZNAME:EDT
DTSTART:20250309T070000
END:DAYLIGHT
BEGIN:STANDARD
TZOFFSETFROM:-0400
TZOFFSETTO:-0500
TZNAME:EST
DTSTART:20251102T060000
END:STANDARD
BEGIN:DAYLIGHT
TZOFFSETFROM:-0500
TZOFFSETTO:-0400
TZNAME:EDT
DTSTART:20260308T070000
END:DAYLIGHT
BEGIN:STANDARD
TZOFFSETFROM:-0400
TZOFFSETTO:-0500
TZNAME:EST
DTSTART:20261101T060000
END:STANDARD
BEGIN:DAYLIGHT
TZOFFSETFROM:-0500
TZOFFSETTO:-0400
TZNAME:EDT
DTSTART:20270314T070000
END:DAYLIGHT
BEGIN:STANDARD
TZOFFSETFROM:-0400
TZOFFSETTO:-0500
TZNAME:EST
DTSTART:20271107T060000
END:STANDARD
END:VTIMEZONE
BEGIN:VEVENT
DTSTART;VALUE=DATE:20260123
DTEND;VALUE=DATE:20260125
DTSTAMP:20260421T163114
CREATED:20260103T020737Z
LAST-MODIFIED:20260122T224402Z
UID:15310-1769126400-1769299199@cordelemotorspeedway.com
SUMMARY:*POSTPONED* SpeedFest 2026
DESCRIPTION:Download Printable Schedule (PDF)\n					more information on postponement				 \nTHIS RACE HAS BEEN POSTPONED – \n\n																\n															 \nFeaturing the ASA Southern Super Series\, CRA Super Series\, Super Fest Series Sanctioned Plus JEGS CRA Pro Late Model Series\, Legends\, and Bandoleros!\nOne of the Southeast’s biggest early-season pavement events is taking shape\, as SpeedFest 2026 at Cordele Motor Speedway announces that tickets are now on sale. Fans can secure their spot for the two-day racing festival at a discounted rate by purchasing in advance. \n  Pit Passes\n  \n2-Day: Adults 13 & Up – $80Friday: Adults 13 & Up – $40Saturday: Adults 13 & Up – $45 \nSchedule and information subject to change \n 				 \n  Grandstand Tickets\n  \nIn Advance: Adults 13 & Up – $25At the Gate: Adults 13 & Up – $30At the Gate: Children 11 7 Under – FREE \n 				 \nGeneral Admission Tickets: \n\n$25 in advance for ages 12+\nKids 11 & under FREE all weekend\nTickets increase by $5 on race day\nPurchase now online at: https://www.myracepass.com/series/1788/tickets/1495728\n\nSpeedFest returns Friday–Saturday\, January 23-24\, 2026\, featuring a powerful lineup headlined by the ASA Southern Super Series presented by Sunoco Super Late Models and the Southern Pro Series Pro Late Models. Also joining the weekend will be INEX Legends and Bandoleros\, bringing a mix of national talent and rising young stars to Crisp Motorsports Park. \nFriday\, January 23 will include practice and qualifying for all four divisions\, setting the stage for an action-packed Saturday afternoon. Feature racing begins at 1 PM on Saturday\, January 24. Teams will also have the option to participate in an open test session Thursday\, January 22 from 12:00–4:00 PM. \nOnline entries are now open for both Super Late Models and Pro Late Models\, with early entries starting to come in. \nWeekend Schedule Overview: \n\nThursday\, January 22\, 2026 – Optional Open Test: 12:00 PM – 4:00 PM\nFriday\, January 23\, 2026 – Practice & Qualifying for All Classes\nSaturday\, January 24\, 2026 – Feature Events Begin at 1:00 PM\n\nSpeedFest has long served as a season-opening measuring stick for short track racers\, and the 2026 edition is shaping up to be no different. Fans can expect a blend of powerhouse Super Late Model talent\, hungry Pro Late Model contenders\, a strong regional and national presence\, and the next generation of racers in Legends and Bandoleros. \nFor tickets and early-bird savings\, visit https://www.myracepass.com/series/1788/tickets/1495728 \nSuper/Pro Late Model Online Entry www.southernsuperseries.com and www.southernproseries.com. \nSCHEDULE\n\nThursday\, January 22\, 2026\nOptional Testing Day: Call 217-764-3200 to Reserve Space \n  \nPits Open………………………………………………………….10:00 AMOptional Open Practice All Divisions*…..12:00 PM – 4:00 PMHauler Parking & Pit Pass Sales……………..4:00 PM -7:00 PM* $175 Per Late Model Car/$100 Per Legend/Bando Car\, Thursday Cost Per Car Includes Thursday Pit Admission \n 				 \nFriday\, January 23\, 2026\nPractice & Qualifying All Divisions \n  \nPits & Registration Open……………………………………..9:00 AMCrew Chief Meeting (Tire & Ignition Draw)……………9:30 AMPre-Tech Opens By Appointment……………………….10:00 AMDrivers Meeting…………………………………………………11:00 AMRotating Practice…………………………………………………12:00 PMPLM Practice 1………………………………….12:00 PM-12:45 PMSLM Practice 1……………………………………12:50 PM-1:35 PMPLM Practice 2……………………………………..1:40 PM-2:25 PMSLM Practice 2……………………………………..2:30 PM-3:15 PMPLM Pre-Qualifying Tech…………………………………….3:00 PMBandolero & Legend Practice………………………………3:30 PMPractice Ends……………………………………………………..4:05 PMSLM Pre-Qualifying Tech……………………………………..4:30 PMQualifying…………………………………………..4:30 PM-6:30 PMBandolero & Legends Final Practice/Group Qualifying…4:30 PMPLM Qualifying……………………………………………………5:15 PMSLM Qualifying……………………………………………………6:00 PM \n 				 \nSaturday\, January 24\, 2026\nProtect Your Melon Buckle Up SpeedFest 2026 \n  \nPit Gates Open……………………………………………………8:00 AMHauler Removal Begins………………………….8:00 AM-9:00 AMPLM Cars To Pre-Tech…………………………………………9:00 AMDrivers Meeting…………………………………………………..9:30 AMDrivers Meeting…………………………………………………10:00 AMSLM Cars To Pre-Tech……………………………………….10:00 AMGrandstands Open…………………………………………….10:00 AMAll Cars Must Be On Grid…………………….11:00 AM-11:15 AMAutograph Session for All Divisions……..11:30 AM-12:15 PMDriver Introductions/Opening Ceremonies…………..12:15 PMRACING BEGINS……………………………………………….1:00 PMBandoleros (15)Legends (25)Southern Pro Series Late Models (100)SSS Super Late Model (150)
URL:https://cordelemotorspeedway.com/event/speedfest-2026/
LOCATION:Cordele Motor Speedway\, 385 Farmers Market Rd\, Cordele\, GA\, 31015\, United States
END:VEVENT
END:VCALENDAR