BEGIN:VCALENDAR
VERSION:2.0
PRODID:-//Cordele Motor Speedway - ECPv6.15.20//NONSGML v1.0//EN
CALSCALE:GREGORIAN
METHOD:PUBLISH
X-WR-CALNAME:Cordele Motor Speedway
X-ORIGINAL-URL:https://cordelemotorspeedway.com
X-WR-CALDESC:Events for Cordele Motor Speedway
REFRESH-INTERVAL;VALUE=DURATION:PT1H
X-Robots-Tag:noindex
X-PUBLISHED-TTL:PT1H
BEGIN:VTIMEZONE
TZID:America/New_York
BEGIN:DAYLIGHT
TZOFFSETFROM:-0500
TZOFFSETTO:-0400
TZNAME:EDT
DTSTART:20240310T070000
END:DAYLIGHT
BEGIN:STANDARD
TZOFFSETFROM:-0400
TZOFFSETTO:-0500
TZNAME:EST
DTSTART:20241103T060000
END:STANDARD
BEGIN:DAYLIGHT
TZOFFSETFROM:-0500
TZOFFSETTO:-0400
TZNAME:EDT
DTSTART:20250309T070000
END:DAYLIGHT
BEGIN:STANDARD
TZOFFSETFROM:-0400
TZOFFSETTO:-0500
TZNAME:EST
DTSTART:20251102T060000
END:STANDARD
BEGIN:DAYLIGHT
TZOFFSETFROM:-0500
TZOFFSETTO:-0400
TZNAME:EDT
DTSTART:20260308T070000
END:DAYLIGHT
BEGIN:STANDARD
TZOFFSETFROM:-0400
TZOFFSETTO:-0500
TZNAME:EST
DTSTART:20261101T060000
END:STANDARD
END:VTIMEZONE
BEGIN:VEVENT
DTSTART;VALUE=DATE:20250905
DTEND;VALUE=DATE:20250907
DTSTAMP:20260421T213052
CREATED:20250609T220736Z
LAST-MODIFIED:20250826T212505Z
UID:15145-1757030400-1757203199@cordelemotorspeedway.com
SUMMARY:13th Annual GA Summer Nationals
DESCRIPTION:Download Printable Schedule (PDF)\n																\n															 \n  Pit Passes\n  \n2-Day: Adults 13 & Up – $752-Day: Chidren 12 & Under – $40 \n1-Day: Adults 13 & Up – $401-Day: Children 12 & Under – $20 \nGeneral Admission UPGRADE TO VIP: $20 \nSchedule and information subject to change \n 				 \n  Grandstand Tickets\n  \n2 Days: Adults 13 & Up – $452 Days: Military\, Seniors & First Responders (with ID) – $302 Days: Children 6 to 12 – $152 Days: Children 5 & Under – FREE \n1 Day: Adults 13 & Up – $251 Day: Military\, Seniors & First Responders (with ID) – $201 Day: Children 6 to 12 – $101 Day: Children 5 & Under – FREE \n 				 \nSCHEDULE\n\nFriday\, September 5\, 2025\n  \nSLM Hauler Parking………………………………………….11:00 AM Pit Gate & Track Services Opens……………………12:00 PM SLM Crew Chiefs Meeting (Qualifying & Tire Draw)…12:15 PM SLM Tech By Appointment……………………………….12:30 PM SLM Driver/Crew Chief/Spotter Meeting……………..1:30 PM Grandstands Open……………………………………………..3:00 PM SLM Practice #1……………………………………….3:00 – 3:30 PM SLM Practice #2……………………………………….4:00 – 4:30 PM Local Practice (Pure Stock – Enduro – Mini Stock 2 Rounds 10 Minutes Each)…4:30 PM SLM Pre-Qualifying Tech Begins…………………………5:00 PM Local Drivers Meeting………………………………………..6:00 PM Pre-Race Ceremonies………………………………………..6:15 PM Qualifying……………………………………………………..6:30 PM SLM QualifyingPure Stock Heats – 6 LapsEnduro Heats – 6 LapsMini Stock Heats – 6 LapsFEATURESPure Stock – 25 LapsEnduro – 20 LapsSuper Fest Super Late Model – 75 LapsMini Stock – 25 Laps \n 				 \nSaturday\, September 6\, 2025\n  \nPit Gate & Track Services Opens…………………….12:00 PMSLM Tech Open For Rechecks & New Cars…………12:30 PMSLM Driver/Crew Chief/Spotter Meeting………………1:30 PMGrandstands Open……………………………………………..3:00 PM SLM Practice #1……………………………………….3:00 – 3:30 PMSLM Practice #2……………………………………….4:00 – 4:30 PMLocal Practice (Bandos – Legends – Crown Vics 2 Rounds 10 Minutes Each)…4:30 PM SLM Pre-Qualifying Tech Begins………………………….5:00 PMLocal Drivers Meeting…………………………………………6:00 PMPre-Race Ceremonies…………………………………………6:15 PMQualifying………………………………………………………6:30 PMSLM QualifyingBandolero Group QualifyingLegends Group QualifyingCrown Vic Heats – 6 LapsFEATURESBandos – 12 LapsLegends – 20 LapsSuper Fest Super Late Model – 125 LapsCrown Vics – 25 Laps \nAll cars must go through tech before practice (Friday or Saturday)
URL:https://cordelemotorspeedway.com/event/13th-annual-ga-summer-nationals/
LOCATION:Cordele Motor Speedway\, 385 Farmers Market Rd\, Cordele\, GA\, 31015\, United States
END:VEVENT
BEGIN:VEVENT
DTSTART;VALUE=DATE:20250913
DTEND;VALUE=DATE:20250914
DTSTAMP:20260421T213052
CREATED:20241212T195730Z
LAST-MODIFIED:20250609T220748Z
UID:14630-1757721600-1757807999@cordelemotorspeedway.com
SUMMARY:Legends & Pro LM All Star Showdown
DESCRIPTION:Legends National Qualifier Double Features\, Pro Late 100 #5\, Crown Vic\, Enduro\, Pure Stock
URL:https://cordelemotorspeedway.com/event/legends-pro-lm-all-star-showdown/
LOCATION:Cordele Motor Speedway\, 385 Farmers Market Rd\, Cordele\, GA\, 31015\, United States
END:VEVENT
END:VCALENDAR