BEGIN:VCALENDAR
VERSION:2.0
PRODID:-//Cordele Motor Speedway - ECPv6.15.20//NONSGML v1.0//EN
CALSCALE:GREGORIAN
METHOD:PUBLISH
X-ORIGINAL-URL:https://cordelemotorspeedway.com
X-WR-CALDESC:Events for Cordele Motor Speedway
REFRESH-INTERVAL;VALUE=DURATION:PT1H
X-Robots-Tag:noindex
X-PUBLISHED-TTL:PT1H
BEGIN:VTIMEZONE
TZID:America/New_York
BEGIN:DAYLIGHT
TZOFFSETFROM:-0500
TZOFFSETTO:-0400
TZNAME:EDT
DTSTART:20230312T070000
END:DAYLIGHT
BEGIN:STANDARD
TZOFFSETFROM:-0400
TZOFFSETTO:-0500
TZNAME:EST
DTSTART:20231105T060000
END:STANDARD
BEGIN:DAYLIGHT
TZOFFSETFROM:-0500
TZOFFSETTO:-0400
TZNAME:EDT
DTSTART:20240310T070000
END:DAYLIGHT
BEGIN:STANDARD
TZOFFSETFROM:-0400
TZOFFSETTO:-0500
TZNAME:EST
DTSTART:20241103T060000
END:STANDARD
BEGIN:DAYLIGHT
TZOFFSETFROM:-0500
TZOFFSETTO:-0400
TZNAME:EDT
DTSTART:20250309T070000
END:DAYLIGHT
BEGIN:STANDARD
TZOFFSETFROM:-0400
TZOFFSETTO:-0500
TZNAME:EST
DTSTART:20251102T060000
END:STANDARD
BEGIN:DAYLIGHT
TZOFFSETFROM:-0500
TZOFFSETTO:-0400
TZNAME:EDT
DTSTART:20260308T070000
END:DAYLIGHT
BEGIN:STANDARD
TZOFFSETFROM:-0400
TZOFFSETTO:-0500
TZNAME:EST
DTSTART:20261101T060000
END:STANDARD
END:VTIMEZONE
BEGIN:VEVENT
DTSTART;VALUE=DATE:20250607
DTEND;VALUE=DATE:20250608
DTSTAMP:20260421T103422
CREATED:20241212T195531Z
LAST-MODIFIED:20250609T220623Z
UID:14618-1749254400-1749340799@cordelemotorspeedway.com
SUMMARY:Watermelon National Classic
DESCRIPTION:BUY TICKETS HERE!				\n				\n		\n					\n		\n				\n				\n																\n															\n															\n				\n				\n		\n				\n				\n					  Fri.\, April 17 Practice  				\n				\n				\n		\n				\n				\n					  Sat.\, April 18 Racing
URL:https://cordelemotorspeedway.com/event/watermelon-national-classic/
LOCATION:Cordele Motor Speedway\, 385 Farmers Market Rd\, Cordele\, GA\, 31015\, United States
END:VEVENT
BEGIN:VEVENT
DTSTART;VALUE=DATE:20250531
DTEND;VALUE=DATE:20250601
DTSTAMP:20260421T103422
CREATED:20241212T195417Z
LAST-MODIFIED:20250609T220236Z
UID:14617-1748649600-1748735999@cordelemotorspeedway.com
SUMMARY:Spring Spectacular Pro Late Model 100
DESCRIPTION:BUY TICKETS HERE!				\n				\n		\n					\n		\n				\n				\n																\n															\n															\n				\n				\n		\n				\n				\n					  Fri.\, April 17 Practice  				\n				\n				\n		\n				\n				\n					  Sat.\, April 18 Racing
URL:https://cordelemotorspeedway.com/event/spring-spectacular-pro-late-model-100/
LOCATION:Cordele Motor Speedway\, 385 Farmers Market Rd\, Cordele\, GA\, 31015\, United States
END:VEVENT
BEGIN:VEVENT
DTSTART;VALUE=DATE:20250510
DTEND;VALUE=DATE:20250511
DTSTAMP:20260421T103422
CREATED:20241212T195337Z
LAST-MODIFIED:20241212T195337Z
UID:14616-1746835200-1746921599@cordelemotorspeedway.com
SUMMARY:Kids Night
DESCRIPTION:BUY TICKETS HERE!				\n				\n		\n					\n		\n				\n				\n																\n															\n															\n				\n				\n		\n				\n				\n					  Fri.\, April 17 Practice  				\n				\n				\n		\n				\n				\n					  Sat.\, April 18 Racing
URL:https://cordelemotorspeedway.com/event/kids-night-2/
LOCATION:Cordele Motor Speedway\, 385 Farmers Market Rd\, Cordele\, GA\, 31015\, United States
END:VEVENT
BEGIN:VEVENT
DTSTART;VALUE=DATE:20250419
DTEND;VALUE=DATE:20250420
DTSTAMP:20260421T103422
CREATED:20241212T195318Z
LAST-MODIFIED:20250414T144514Z
UID:14615-1745020800-1745107199@cordelemotorspeedway.com
SUMMARY:4th Annual Pure Stock Spectacular
DESCRIPTION:BUY TICKETS HERE!				\n				\n		\n					\n		\n				\n				\n																\n															\n															\n				\n				\n		\n				\n				\n					  Fri.\, April 17 Practice  				\n				\n				\n		\n				\n				\n					  Sat.\, April 18 Racing
URL:https://cordelemotorspeedway.com/event/4th-annual-pure-stock-spectacular/
LOCATION:Cordele Motor Speedway\, 385 Farmers Market Rd\, Cordele\, GA\, 31015\, United States
END:VEVENT
BEGIN:VEVENT
DTSTART;VALUE=DATE:20250412
DTEND;VALUE=DATE:20250413
DTSTAMP:20260421T103422
CREATED:20241212T195259Z
LAST-MODIFIED:20250318T125416Z
UID:14614-1744416000-1744502399@cordelemotorspeedway.com
SUMMARY:CARS Tour
DESCRIPTION:BUY TICKETS HERE!				\n				\n		\n					\n		\n				\n				\n																\n															\n															\n				\n				\n		\n				\n				\n					  Fri.\, April 17 Practice  				\n				\n				\n		\n				\n				\n					  Sat.\, April 18 Racing
URL:https://cordelemotorspeedway.com/event/cars-tour/
LOCATION:Cordele Motor Speedway\, 385 Farmers Market Rd\, Cordele\, GA\, 31015\, United States
END:VEVENT
BEGIN:VEVENT
DTSTART;VALUE=DATE:20250405
DTEND;VALUE=DATE:20250406
DTSTAMP:20260421T103422
CREATED:20241212T195152Z
LAST-MODIFIED:20250326T234508Z
UID:14607-1743811200-1743897599@cordelemotorspeedway.com
SUMMARY:Spring Showdown - POSTPONED
DESCRIPTION:BUY TICKETS HERE!				\n				\n		\n					\n		\n				\n				\n																\n															\n															\n				\n				\n		\n				\n				\n					  Fri.\, April 17 Practice  				\n				\n				\n		\n				\n				\n					  Sat.\, April 18 Racing
URL:https://cordelemotorspeedway.com/event/spring-showdown-2/
LOCATION:Cordele Motor Speedway\, 385 Farmers Market Rd\, Cordele\, GA\, 31015\, United States
END:VEVENT
BEGIN:VEVENT
DTSTART;VALUE=DATE:20250322
DTEND;VALUE=DATE:20250323
DTSTAMP:20260421T103422
CREATED:20241212T195129Z
LAST-MODIFIED:20250317T185714Z
UID:14606-1742601600-1742687999@cordelemotorspeedway.com
SUMMARY:GA Pro Late Spring Nationals
DESCRIPTION:BUY TICKETS HERE!				\n				\n		\n					\n		\n				\n				\n																\n															\n															\n				\n				\n		\n				\n				\n					  Fri.\, April 17 Practice  				\n				\n				\n		\n				\n				\n					  Sat.\, April 18 Racing
URL:https://cordelemotorspeedway.com/event/ga-pro-late-spring-nationals-2/
LOCATION:Cordele Motor Speedway\, 385 Farmers Market Rd\, Cordele\, GA\, 31015\, United States
ATTACH;FMTTYPE=image/jpeg:https://cordelemotorspeedway.com/wp-content/uploads/2024/12/2025-03-22.jpg
END:VEVENT
BEGIN:VEVENT
DTSTART;VALUE=DATE:20250308
DTEND;VALUE=DATE:20250309
DTSTAMP:20260421T103422
CREATED:20241212T195108Z
LAST-MODIFIED:20250306T015824Z
UID:14605-1741392000-1741478399@cordelemotorspeedway.com
SUMMARY:March 8 Race: CANCELED
DESCRIPTION:BUY TICKETS HERE!				\n				\n		\n					\n		\n				\n				\n																\n															\n															\n				\n				\n		\n				\n				\n					  Fri.\, April 17 Practice  				\n				\n				\n		\n				\n				\n					  Sat.\, April 18 Racing
URL:https://cordelemotorspeedway.com/event/march-8-race/
LOCATION:Cordele Motor Speedway\, 385 Farmers Market Rd\, Cordele\, GA\, 31015\, United States
ATTACH;FMTTYPE=image/jpeg:https://cordelemotorspeedway.com/wp-content/uploads/2024/12/2025-03-08.jpg
END:VEVENT
BEGIN:VEVENT
DTSTART;VALUE=DATE:20250222
DTEND;VALUE=DATE:20250223
DTSTAMP:20260421T103422
CREATED:20241212T195042Z
LAST-MODIFIED:20250217T213822Z
UID:14604-1740182400-1740268799@cordelemotorspeedway.com
SUMMARY:Pro Late Models + "I Can't Drive 55" Crown Vic Special & Mini Stock Challenge
DESCRIPTION:BUY TICKETS HERE!				\n				\n		\n					\n		\n				\n				\n																\n															\n															\n				\n				\n		\n				\n				\n					  Fri.\, April 17 Practice  				\n				\n				\n		\n				\n				\n					  Sat.\, April 18 Racing
URL:https://cordelemotorspeedway.com/event/i-cant-drive-55-crown-vic-special-2/
LOCATION:Cordele Motor Speedway\, 385 Farmers Market Rd\, Cordele\, GA\, 31015\, United States
END:VEVENT
BEGIN:VEVENT
DTSTART;VALUE=DATE:20250201
DTEND;VALUE=DATE:20250202
DTSTAMP:20260421T103422
CREATED:20241212T195014Z
LAST-MODIFIED:20250123T082757Z
UID:14603-1738368000-1738454399@cordelemotorspeedway.com
SUMMARY:February 1 Race
DESCRIPTION:BUY TICKETS HERE!				\n				\n		\n					\n		\n				\n				\n																\n															\n															\n				\n				\n		\n				\n				\n					  Fri.\, April 17 Practice  				\n				\n				\n		\n				\n				\n					  Sat.\, April 18 Racing
URL:https://cordelemotorspeedway.com/event/february-1-race/
LOCATION:Cordele Motor Speedway\, 385 Farmers Market Rd\, Cordele\, GA\, 31015\, United States
ATTACH;FMTTYPE=image/jpeg:https://cordelemotorspeedway.com/wp-content/uploads/2024/12/2025-02-01-flyer.jpg
END:VEVENT
BEGIN:VEVENT
DTSTART;TZID=America/New_York:20250119T130000
DTEND;TZID=America/New_York:20250119T200000
DTSTAMP:20260421T103422
CREATED:20250109T222900Z
LAST-MODIFIED:20250109T222900Z
UID:14677-1737291600-1737316800@cordelemotorspeedway.com
SUMMARY:CMS Awards Banquet
DESCRIPTION:BUY TICKETS HERE!				\n				\n		\n					\n		\n				\n				\n																\n															\n															\n				\n				\n		\n				\n				\n					  Fri.\, April 17 Practice  				\n				\n				\n		\n				\n				\n					  Sat.\, April 18 Racing
URL:https://cordelemotorspeedway.com/event/cms-awards-banquet/
LOCATION:Cordele Lions Club\, 2101 S 7th Street\, Cordele\, GA\, 31015\, United States
ATTACH;FMTTYPE=image/jpeg:https://cordelemotorspeedway.com/wp-content/uploads/2025/01/2025-01-19.jpg
END:VEVENT
BEGIN:VEVENT
DTSTART;VALUE=DATE:20250116
DTEND;VALUE=DATE:20250119
DTSTAMP:20260421T103422
CREATED:20241212T194949Z
LAST-MODIFIED:20250115T080416Z
UID:14602-1736985600-1737244799@cordelemotorspeedway.com
SUMMARY:Speed Fest (SSS & CRA Sanctioned)
DESCRIPTION:BUY TICKETS HERE!				\n				\n		\n					\n		\n				\n				\n																\n															\n															\n				\n				\n		\n				\n				\n					  Fri.\, April 17 Practice  				\n				\n				\n		\n				\n				\n					  Sat.\, April 18 Racing
URL:https://cordelemotorspeedway.com/event/speed-fest-sss-cra-sanctioned/
LOCATION:Cordele Motor Speedway\, 385 Farmers Market Rd\, Cordele\, GA\, 31015\, United States
ATTACH;FMTTYPE=image/jpeg:https://cordelemotorspeedway.com/wp-content/uploads/2024/12/25CRA_speedFestMove_01.jpg
END:VEVENT
BEGIN:VEVENT
DTSTART;VALUE=DATE:20241026
DTEND;VALUE=DATE:20241027
DTSTAMP:20260421T103422
CREATED:20240804T212709Z
LAST-MODIFIED:20241026T152343Z
UID:14455-1729900800-1729987199@cordelemotorspeedway.com
SUMMARY:32nd Annual World Crown 300
DESCRIPTION:BUY TICKETS HERE!				\n				\n		\n					\n		\n				\n				\n																\n															\n															\n				\n				\n		\n				\n				\n					  Fri.\, April 17 Practice  				\n				\n				\n		\n				\n				\n					  Sat.\, April 18 Racing
URL:https://cordelemotorspeedway.com/event/32nd-annual-world-crown-300/
LOCATION:Cordele Motor Speedway\, 385 Farmers Market Rd\, Cordele\, GA\, 31015\, United States
END:VEVENT
BEGIN:VEVENT
DTSTART;VALUE=DATE:20241012
DTEND;VALUE=DATE:20241013
DTSTAMP:20260421T103422
CREATED:20240215T190104Z
LAST-MODIFIED:20241010T161236Z
UID:13187-1728691200-1728777599@cordelemotorspeedway.com
SUMMARY:POSTPONED Ray Ingle Memorial Race 54
DESCRIPTION:BUY TICKETS HERE!				\n				\n		\n					\n		\n				\n				\n																\n															\n															\n				\n				\n		\n				\n				\n					  Fri.\, April 17 Practice  				\n				\n				\n		\n				\n				\n					  Sat.\, April 18 Racing
URL:https://cordelemotorspeedway.com/event/ray-ingle-memorial-race-54/
LOCATION:Cordele Motor Speedway\, 385 Farmers Market Rd\, Cordele\, GA\, 31015\, United States
END:VEVENT
BEGIN:VEVENT
DTSTART;VALUE=DATE:20240921
DTEND;VALUE=DATE:20240922
DTSTAMP:20260421T103422
CREATED:20240215T190036Z
LAST-MODIFIED:20240215T190044Z
UID:13186-1726876800-1726963199@cordelemotorspeedway.com
SUMMARY:Legends All Star Showdown
DESCRIPTION:BUY TICKETS HERE!				\n				\n		\n					\n		\n				\n				\n																\n															\n															\n				\n				\n		\n				\n				\n					  Fri.\, April 17 Practice  				\n				\n				\n		\n				\n				\n					  Sat.\, April 18 Racing
URL:https://cordelemotorspeedway.com/event/legends-all-star-showdown/
LOCATION:Cordele Motor Speedway\, 385 Farmers Market Rd\, Cordele\, GA\, 31015\, United States
END:VEVENT
BEGIN:VEVENT
DTSTART;VALUE=DATE:20240914
DTEND;VALUE=DATE:20240915
DTSTAMP:20260421T103422
CREATED:20240215T190009Z
LAST-MODIFIED:20240909T140158Z
UID:13185-1726272000-1726358399@cordelemotorspeedway.com
SUMMARY:GA vs FL Mini Stock Challenge
DESCRIPTION:BUY TICKETS HERE!				\n				\n		\n					\n		\n				\n				\n																\n															\n															\n				\n				\n		\n				\n				\n					  Fri.\, April 17 Practice  				\n				\n				\n		\n				\n				\n					  Sat.\, April 18 Racing
URL:https://cordelemotorspeedway.com/event/ga-vs-fl-mini-stock-challenge/
LOCATION:Cordele Motor Speedway\, 385 Farmers Market Rd\, Cordele\, GA\, 31015\, United States
END:VEVENT
BEGIN:VEVENT
DTSTART;VALUE=DATE:20240831
DTEND;VALUE=DATE:20240901
DTSTAMP:20260421T103422
CREATED:20240215T185915Z
LAST-MODIFIED:20240819T175218Z
UID:13184-1725062400-1725148799@cordelemotorspeedway.com
SUMMARY:"I Can't Drive 55" Crown Vic Special
DESCRIPTION:BUY TICKETS HERE!				\n				\n		\n					\n		\n				\n				\n																\n															\n															\n				\n				\n		\n				\n				\n					  Fri.\, April 17 Practice  				\n				\n				\n		\n				\n				\n					  Sat.\, April 18 Racing
URL:https://cordelemotorspeedway.com/event/i-cant-drive-55-crown-vic-special/
LOCATION:Cordele Motor Speedway\, 385 Farmers Market Rd\, Cordele\, GA\, 31015\, United States
END:VEVENT
BEGIN:VEVENT
DTSTART;VALUE=DATE:20240810
DTEND;VALUE=DATE:20240811
DTSTAMP:20260421T103422
CREATED:20240215T185445Z
LAST-MODIFIED:20240702T122438Z
UID:13183-1723248000-1723334399@cordelemotorspeedway.com
SUMMARY:12th Annual GA Summer Nationals
DESCRIPTION:BUY TICKETS HERE!				\n				\n		\n					\n		\n				\n				\n																\n															\n															\n				\n				\n		\n				\n				\n					  Fri.\, April 17 Practice  				\n				\n				\n		\n				\n				\n					  Sat.\, April 18 Racing
URL:https://cordelemotorspeedway.com/event/12th-annual-ga-summer-nationals/
LOCATION:Cordele Motor Speedway\, 385 Farmers Market Rd\, Cordele\, GA\, 31015\, United States
END:VEVENT
BEGIN:VEVENT
DTSTART;VALUE=DATE:20240629
DTEND;VALUE=DATE:20240630
DTSTAMP:20260421T103422
CREATED:20240215T185404Z
LAST-MODIFIED:20240528T192253Z
UID:13182-1719619200-1719705599@cordelemotorspeedway.com
SUMMARY:Race Day
DESCRIPTION:BUY TICKETS HERE!				\n				\n		\n					\n		\n				\n				\n																\n															\n															\n				\n				\n		\n				\n				\n					  Fri.\, April 17 Practice  				\n				\n				\n		\n				\n				\n					  Sat.\, April 18 Racing
URL:https://cordelemotorspeedway.com/event/race-day-2/
LOCATION:Cordele Motor Speedway\, 385 Farmers Market Rd\, Cordele\, GA\, 31015\, United States
END:VEVENT
BEGIN:VEVENT
DTSTART;VALUE=DATE:20240608
DTEND;VALUE=DATE:20240609
DTSTAMP:20260421T103422
CREATED:20240215T185343Z
LAST-MODIFIED:20240528T182342Z
UID:13181-1717804800-1717891199@cordelemotorspeedway.com
SUMMARY:GA vs FL Pro Truck Classic
DESCRIPTION:BUY TICKETS HERE!				\n				\n		\n					\n		\n				\n				\n																\n															\n															\n				\n				\n		\n				\n				\n					  Fri.\, April 17 Practice  				\n				\n				\n		\n				\n				\n					  Sat.\, April 18 Racing
URL:https://cordelemotorspeedway.com/event/ga-vs-fl-pro-truck-classic/
LOCATION:Cordele Motor Speedway\, 385 Farmers Market Rd\, Cordele\, GA\, 31015\, United States
END:VEVENT
BEGIN:VEVENT
DTSTART;VALUE=DATE:20240525
DTEND;VALUE=DATE:20240526
DTSTAMP:20260421T103422
CREATED:20240215T185304Z
LAST-MODIFIED:20240430T203250Z
UID:13180-1716595200-1716681599@cordelemotorspeedway.com
SUMMARY:Race Day
DESCRIPTION:BUY TICKETS HERE!				\n				\n		\n					\n		\n				\n				\n																\n															\n															\n				\n				\n		\n				\n				\n					  Fri.\, April 17 Practice  				\n				\n				\n		\n				\n				\n					  Sat.\, April 18 Racing
URL:https://cordelemotorspeedway.com/event/race-day/
LOCATION:Cordele Motor Speedway\, 385 Farmers Market Rd\, Cordele\, GA\, 31015\, United States
END:VEVENT
BEGIN:VEVENT
DTSTART;VALUE=DATE:20240511
DTEND;VALUE=DATE:20240512
DTSTAMP:20260421T103422
CREATED:20240215T185239Z
LAST-MODIFIED:20240506T183044Z
UID:13179-1715385600-1715471999@cordelemotorspeedway.com
SUMMARY:Kids Night
DESCRIPTION:BUY TICKETS HERE!				\n				\n		\n					\n		\n				\n				\n																\n															\n															\n				\n				\n		\n				\n				\n					  Fri.\, April 17 Practice  				\n				\n				\n		\n				\n				\n					  Sat.\, April 18 Racing
URL:https://cordelemotorspeedway.com/event/kids-night/
LOCATION:Cordele Motor Speedway\, 385 Farmers Market Rd\, Cordele\, GA\, 31015\, United States
END:VEVENT
BEGIN:VEVENT
DTSTART;VALUE=DATE:20240427
DTEND;VALUE=DATE:20240428
DTSTAMP:20260421T103422
CREATED:20240215T185216Z
LAST-MODIFIED:20240418T172447Z
UID:13178-1714176000-1714262399@cordelemotorspeedway.com
SUMMARY:3rd Annual Pure Stock Spectacular
DESCRIPTION:BUY TICKETS HERE!				\n				\n		\n					\n		\n				\n				\n																\n															\n															\n				\n				\n		\n				\n				\n					  Fri.\, April 17 Practice  				\n				\n				\n		\n				\n				\n					  Sat.\, April 18 Racing
URL:https://cordelemotorspeedway.com/event/3rd-annual-pure-stock-spectacular/
LOCATION:Cordele Motor Speedway\, 385 Farmers Market Rd\, Cordele\, GA\, 31015\, United States
END:VEVENT
BEGIN:VEVENT
DTSTART;VALUE=DATE:20240413
DTEND;VALUE=DATE:20240414
DTSTAMP:20260421T103422
CREATED:20240215T185150Z
LAST-MODIFIED:20240404T222641Z
UID:13177-1712966400-1713052799@cordelemotorspeedway.com
SUMMARY:Spring Showdown
DESCRIPTION:BUY TICKETS HERE!				\n				\n		\n					\n		\n				\n				\n																\n															\n															\n				\n				\n		\n				\n				\n					  Fri.\, April 17 Practice  				\n				\n				\n		\n				\n				\n					  Sat.\, April 18 Racing
URL:https://cordelemotorspeedway.com/event/spring-showdown/
LOCATION:Cordele Motor Speedway\, 385 Farmers Market Rd\, Cordele\, GA\, 31015\, United States
END:VEVENT
BEGIN:VEVENT
DTSTART;VALUE=DATE:20240330
DTEND;VALUE=DATE:20240331
DTSTAMP:20260421T103422
CREATED:20240215T184830Z
LAST-MODIFIED:20240404T222611Z
UID:13176-1711756800-1711843199@cordelemotorspeedway.com
SUMMARY:GA Pro Late Spring Nationals
DESCRIPTION:BUY TICKETS HERE!				\n				\n		\n					\n		\n				\n				\n																\n															\n															\n				\n				\n		\n				\n				\n					  Fri.\, April 17 Practice  				\n				\n				\n		\n				\n				\n					  Sat.\, April 18 Racing
URL:https://cordelemotorspeedway.com/event/ga-pro-late-spring-nationals/
LOCATION:Cordele Motor Speedway\, 385 Farmers Market Rd\, Cordele\, GA\, 31015\, United States
END:VEVENT
END:VCALENDAR