BEGIN:VCALENDAR
VERSION:2.0
PRODID:-//Cordele Motor Speedway - ECPv6.15.20//NONSGML v1.0//EN
CALSCALE:GREGORIAN
METHOD:PUBLISH
X-WR-CALNAME:Cordele Motor Speedway
X-ORIGINAL-URL:https://cordelemotorspeedway.com
X-WR-CALDESC:Events for Cordele Motor Speedway
REFRESH-INTERVAL;VALUE=DURATION:PT1H
X-Robots-Tag:noindex
X-PUBLISHED-TTL:PT1H
BEGIN:VTIMEZONE
TZID:America/New_York
BEGIN:DAYLIGHT
TZOFFSETFROM:-0500
TZOFFSETTO:-0400
TZNAME:EDT
DTSTART:20250309T070000
END:DAYLIGHT
BEGIN:STANDARD
TZOFFSETFROM:-0400
TZOFFSETTO:-0500
TZNAME:EST
DTSTART:20251102T060000
END:STANDARD
BEGIN:DAYLIGHT
TZOFFSETFROM:-0500
TZOFFSETTO:-0400
TZNAME:EDT
DTSTART:20260308T070000
END:DAYLIGHT
BEGIN:STANDARD
TZOFFSETFROM:-0400
TZOFFSETTO:-0500
TZNAME:EST
DTSTART:20261101T060000
END:STANDARD
BEGIN:DAYLIGHT
TZOFFSETFROM:-0500
TZOFFSETTO:-0400
TZNAME:EDT
DTSTART:20270314T070000
END:DAYLIGHT
BEGIN:STANDARD
TZOFFSETFROM:-0400
TZOFFSETTO:-0500
TZNAME:EST
DTSTART:20271107T060000
END:STANDARD
END:VTIMEZONE
BEGIN:VEVENT
DTSTART;VALUE=DATE:20260918
DTEND;VALUE=DATE:20260920
DTSTAMP:20260422T180717
CREATED:20260106T135623Z
LAST-MODIFIED:20260106T135623Z
UID:15315-1789689600-1789862399@cordelemotorspeedway.com
SUMMARY:Cordele Motor Speedway Championship Night
DESCRIPTION:Featuring Pro Trucks\, Outlaws\, Enduros\, Mini Stocks\, Pure Stocks\, Legends\, Bandoleros\, & Crown Vics
URL:https://cordelemotorspeedway.com/event/cordele-motor-speedway-championship-night/
END:VEVENT
BEGIN:VEVENT
DTSTART;VALUE=DATE:20261023
DTEND;VALUE=DATE:20261025
DTSTAMP:20260422T180717
CREATED:20260106T135659Z
LAST-MODIFIED:20260106T135659Z
UID:15314-1792713600-1792886399@cordelemotorspeedway.com
SUMMARY:World Crown 300 SuperFest Series & Southern Super Series
DESCRIPTION:Featuring Late Models & Pro Late Models
URL:https://cordelemotorspeedway.com/event/world-crown-300-superfest-series-southern-super-series/
END:VEVENT
END:VCALENDAR