BEGIN:VCALENDAR
VERSION:2.0
PRODID:-//Cordele Motor Speedway - ECPv6.15.20//NONSGML v1.0//EN
CALSCALE:GREGORIAN
METHOD:PUBLISH
X-WR-CALNAME:Cordele Motor Speedway
X-ORIGINAL-URL:https://cordelemotorspeedway.com
X-WR-CALDESC:Events for Cordele Motor Speedway
REFRESH-INTERVAL;VALUE=DURATION:PT1H
X-Robots-Tag:noindex
X-PUBLISHED-TTL:PT1H
BEGIN:VTIMEZONE
TZID:America/New_York
BEGIN:DAYLIGHT
TZOFFSETFROM:-0500
TZOFFSETTO:-0400
TZNAME:EDT
DTSTART:20240310T070000
END:DAYLIGHT
BEGIN:STANDARD
TZOFFSETFROM:-0400
TZOFFSETTO:-0500
TZNAME:EST
DTSTART:20241103T060000
END:STANDARD
BEGIN:DAYLIGHT
TZOFFSETFROM:-0500
TZOFFSETTO:-0400
TZNAME:EDT
DTSTART:20250309T070000
END:DAYLIGHT
BEGIN:STANDARD
TZOFFSETFROM:-0400
TZOFFSETTO:-0500
TZNAME:EST
DTSTART:20251102T060000
END:STANDARD
BEGIN:DAYLIGHT
TZOFFSETFROM:-0500
TZOFFSETTO:-0400
TZNAME:EDT
DTSTART:20260308T070000
END:DAYLIGHT
BEGIN:STANDARD
TZOFFSETFROM:-0400
TZOFFSETTO:-0500
TZNAME:EST
DTSTART:20261101T060000
END:STANDARD
BEGIN:DAYLIGHT
TZOFFSETFROM:-0500
TZOFFSETTO:-0400
TZNAME:EDT
DTSTART:20270314T070000
END:DAYLIGHT
BEGIN:STANDARD
TZOFFSETFROM:-0400
TZOFFSETTO:-0500
TZNAME:EST
DTSTART:20271107T060000
END:STANDARD
END:VTIMEZONE
BEGIN:VEVENT
DTSTART;VALUE=DATE:20251024
DTEND;VALUE=DATE:20251026
DTSTAMP:20260422T190314
CREATED:20241212T195814Z
LAST-MODIFIED:20250609T220821Z
UID:14632-1761264000-1761436799@cordelemotorspeedway.com
SUMMARY:World Crown 300
DESCRIPTION:Super Late Models with other classes TBA
URL:https://cordelemotorspeedway.com/event/world-crown-300/
LOCATION:Cordele Motor Speedway\, 385 Farmers Market Rd\, Cordele\, GA\, 31015\, United States
END:VEVENT
BEGIN:VEVENT
DTSTART;VALUE=DATE:20260123
DTEND;VALUE=DATE:20260125
DTSTAMP:20260422T190314
CREATED:20260103T020737Z
LAST-MODIFIED:20260122T224402Z
UID:15310-1769126400-1769299199@cordelemotorspeedway.com
SUMMARY:*POSTPONED* SpeedFest 2026
DESCRIPTION:Download Printable Schedule (PDF)\n					more information on postponement				 \nTHIS RACE HAS BEEN POSTPONED – \n\n																\n															 \nFeaturing the ASA Southern Super Series\, CRA Super Series\, Super Fest Series Sanctioned Plus JEGS CRA Pro Late Model Series\, Legends\, and Bandoleros!\nOne of the Southeast’s biggest early-season pavement events is taking shape\, as SpeedFest 2026 at Cordele Motor Speedway announces that tickets are now on sale. Fans can secure their spot for the two-day racing festival at a discounted rate by purchasing in advance. \n  Pit Passes\n  \n2-Day: Adults 13 & Up – $80Friday: Adults 13 & Up – $40Saturday: Adults 13 & Up – $45 \nSchedule and information subject to change \n 				 \n  Grandstand Tickets\n  \nIn Advance: Adults 13 & Up – $25At the Gate: Adults 13 & Up – $30At the Gate: Children 11 7 Under – FREE \n 				 \nGeneral Admission Tickets: \n\n$25 in advance for ages 12+\nKids 11 & under FREE all weekend\nTickets increase by $5 on race day\nPurchase now online at: https://www.myracepass.com/series/1788/tickets/1495728\n\nSpeedFest returns Friday–Saturday\, January 23-24\, 2026\, featuring a powerful lineup headlined by the ASA Southern Super Series presented by Sunoco Super Late Models and the Southern Pro Series Pro Late Models. Also joining the weekend will be INEX Legends and Bandoleros\, bringing a mix of national talent and rising young stars to Crisp Motorsports Park. \nFriday\, January 23 will include practice and qualifying for all four divisions\, setting the stage for an action-packed Saturday afternoon. Feature racing begins at 1 PM on Saturday\, January 24. Teams will also have the option to participate in an open test session Thursday\, January 22 from 12:00–4:00 PM. \nOnline entries are now open for both Super Late Models and Pro Late Models\, with early entries starting to come in. \nWeekend Schedule Overview: \n\nThursday\, January 22\, 2026 – Optional Open Test: 12:00 PM – 4:00 PM\nFriday\, January 23\, 2026 – Practice & Qualifying for All Classes\nSaturday\, January 24\, 2026 – Feature Events Begin at 1:00 PM\n\nSpeedFest has long served as a season-opening measuring stick for short track racers\, and the 2026 edition is shaping up to be no different. Fans can expect a blend of powerhouse Super Late Model talent\, hungry Pro Late Model contenders\, a strong regional and national presence\, and the next generation of racers in Legends and Bandoleros. \nFor tickets and early-bird savings\, visit https://www.myracepass.com/series/1788/tickets/1495728 \nSuper/Pro Late Model Online Entry www.southernsuperseries.com and www.southernproseries.com. \nSCHEDULE\n\nThursday\, January 22\, 2026\nOptional Testing Day: Call 217-764-3200 to Reserve Space \n  \nPits Open………………………………………………………….10:00 AMOptional Open Practice All Divisions*…..12:00 PM – 4:00 PMHauler Parking & Pit Pass Sales……………..4:00 PM -7:00 PM* $175 Per Late Model Car/$100 Per Legend/Bando Car\, Thursday Cost Per Car Includes Thursday Pit Admission \n 				 \nFriday\, January 23\, 2026\nPractice & Qualifying All Divisions \n  \nPits & Registration Open……………………………………..9:00 AMCrew Chief Meeting (Tire & Ignition Draw)……………9:30 AMPre-Tech Opens By Appointment……………………….10:00 AMDrivers Meeting…………………………………………………11:00 AMRotating Practice…………………………………………………12:00 PMPLM Practice 1………………………………….12:00 PM-12:45 PMSLM Practice 1……………………………………12:50 PM-1:35 PMPLM Practice 2……………………………………..1:40 PM-2:25 PMSLM Practice 2……………………………………..2:30 PM-3:15 PMPLM Pre-Qualifying Tech…………………………………….3:00 PMBandolero & Legend Practice………………………………3:30 PMPractice Ends……………………………………………………..4:05 PMSLM Pre-Qualifying Tech……………………………………..4:30 PMQualifying…………………………………………..4:30 PM-6:30 PMBandolero & Legends Final Practice/Group Qualifying…4:30 PMPLM Qualifying……………………………………………………5:15 PMSLM Qualifying……………………………………………………6:00 PM \n 				 \nSaturday\, January 24\, 2026\nProtect Your Melon Buckle Up SpeedFest 2026 \n  \nPit Gates Open……………………………………………………8:00 AMHauler Removal Begins………………………….8:00 AM-9:00 AMPLM Cars To Pre-Tech…………………………………………9:00 AMDrivers Meeting…………………………………………………..9:30 AMDrivers Meeting…………………………………………………10:00 AMSLM Cars To Pre-Tech……………………………………….10:00 AMGrandstands Open…………………………………………….10:00 AMAll Cars Must Be On Grid…………………….11:00 AM-11:15 AMAutograph Session for All Divisions……..11:30 AM-12:15 PMDriver Introductions/Opening Ceremonies…………..12:15 PMRACING BEGINS……………………………………………….1:00 PMBandoleros (15)Legends (25)Southern Pro Series Late Models (100)SSS Super Late Model (150)
URL:https://cordelemotorspeedway.com/event/speedfest-2026/
LOCATION:Cordele Motor Speedway\, 385 Farmers Market Rd\, Cordele\, GA\, 31015\, United States
END:VEVENT
BEGIN:VEVENT
DTSTART;VALUE=DATE:20260220
DTEND;VALUE=DATE:20260222
DTSTAMP:20260422T190314
CREATED:20260106T134848Z
LAST-MODIFIED:20260218T183429Z
UID:15329-1771545600-1771718399@cordelemotorspeedway.com
SUMMARY:SuperFest Race #2 & Ray Ingle Memorial 54
DESCRIPTION:Featuring Super Late Models\, Outlaws\, Pro Trucks\, and Crown Vics
URL:https://cordelemotorspeedway.com/event/superfest-race-2-ray-ingle-memorial-54/
END:VEVENT
BEGIN:VEVENT
DTSTART;VALUE=DATE:20260313
DTEND;VALUE=DATE:20260315
DTSTAMP:20260422T190314
CREATED:20260106T134934Z
LAST-MODIFIED:20260224T235112Z
UID:15328-1773360000-1773532799@cordelemotorspeedway.com
SUMMARY:March Madness (Double Points For Largest Class)
DESCRIPTION:Download Printable Schedule (PDF)\n					REGISTER TO RACE! free pre-regristration\, $25 MARCH 6 OR LATER\n																\n															 \n  Pit Passes\n  \n1-Day\, Adult: $40.002-Day\, Adult: $75.001-Day\, Youth: $20.002-Day\, Youth: $40.00 \n 				 \n  General Admission\n  \nAdult\, 18+: $20.00Teen\, 11-17: $12.50Youth\, 10 & Under: FREEMilitary & First Responders: $12.50Senior: $15.00 \n 				 \nSCHEDULE\n\nFriday\, March 13\, 2026\nPractice \n  \nPits Gate Open………………………………………………….12:00 PMTires & Fuel Opens……………………………….12:00 PM-4:30 PMRotational Practice……………………………………1:00 PM-5:00PMPit Area Closes……………………………………………………6:00 PM \n 				 \nSaturday\, March 14\, 2026\nMarch Madness: Double Points for Largest Class \n  \nPit Gates Open………………………………………………….. 2:00 PMTires & Fuel Opens…………………………………………….. 2:00 PMPractice Open……………………………………………………. 3:00 PMPure Stocks…………………………………………. 3:00 PM-3:10 PMOutlaw…………………………………………………. 3:10 PM-3:30 PMMini Stocks………………………………………….. 3:30 PM-3:40 PMEnduros……………………………………………….. 3:40 PM-3:50 PMCrown Vics…………………………………………… 3:50 PM-4:00 PMPure Stocks………………………………………….. 4:00 PM-4:10 PMOutlaw………………………………………………….. 4:10 PM-4:30 PMMini Stocks………………………………………….. 4:30 PM-4:40 PMEnduros……………………………………………….. 4:40 PM-4:50 PMCrown Vics…………………………………………… 4:50 PM-5:00 PMMandatory Drivers/Spotters Meeting……………….. 5:15 PMGrandstands Open……………………………………………… 5:45 PMQualifying & Heats……………………………………………… 5:45 PMPure Stock Heats – 6 LapsOutlaw (Dead Lap\, GWC)Mini Stock Heats – 6 LapsEnduros Heats – 6 LapsCrown Vics – 6 LapsPre Race Ceremonies…………………………………….. 6:30 PMFEATURES:Pure Stock – 20 Laps or 20 MinutesOutlaw – 30 Laps or 30 MinutesIntermission (Juice Box Race)Mini Stock – 20 Laps or 20 MinutesEnduros – 20 Laps or 20 MinutesCrown Vics – 20 Laps or 20 Minutes \n 				 \nSchedule Subject to Change
URL:https://cordelemotorspeedway.com/event/march-madness-double-points-for-largest-class/
END:VEVENT
BEGIN:VEVENT
DTSTART;VALUE=DATE:20260327
DTEND;VALUE=DATE:20260329
DTSTAMP:20260422T190314
CREATED:20260106T135010Z
LAST-MODIFIED:20260106T135010Z
UID:15327-1774569600-1774742399@cordelemotorspeedway.com
SUMMARY:Pro Late Model Spring Nationals (Double Points For Largest Class)
DESCRIPTION:Featuring Pro Late Models\, Pure Stocks\, Enduros\, Mini Stocks\, Legends\, Bandoleros
URL:https://cordelemotorspeedway.com/event/pro-late-model-spring-nationals-double-points-for-largest-class/
END:VEVENT
BEGIN:VEVENT
DTSTART;VALUE=DATE:20260417
DTEND;VALUE=DATE:20260419
DTSTAMP:20260422T190314
CREATED:20260106T135036Z
LAST-MODIFIED:20260407T183040Z
UID:15326-1776384000-1776556799@cordelemotorspeedway.com
SUMMARY:IHRA Stock Car Series: Grassroots Grit on the National Stage
DESCRIPTION:BUY TICKETS HERE!\n																\n															 \n  Fri.\, April 17\n  \nPractice \n 				 \n  Sat.\, April 18\n  \nRacing
URL:https://cordelemotorspeedway.com/event/ihra-stock-car-series-grassroots-grit-on-the-national-stage/
END:VEVENT
BEGIN:VEVENT
DTSTART;VALUE=DATE:20260424
DTEND;VALUE=DATE:20260426
DTSTAMP:20260422T190314
CREATED:20260106T135109Z
LAST-MODIFIED:20260106T135109Z
UID:15325-1776988800-1777161599@cordelemotorspeedway.com
SUMMARY:Annual Pure Stock Spectacular (Double Points For Largest Class)
DESCRIPTION:Featuring Pure Stocks\, Outlaws\, Pro Trucks\, Enduros\, Crown Vics\, Mini Stocks\, Legends\, & Bandoleros
URL:https://cordelemotorspeedway.com/event/annual-pure-stock-spectacular-double-points-for-largest-class/
END:VEVENT
BEGIN:VEVENT
DTSTART;VALUE=DATE:20260508
DTEND;VALUE=DATE:20260510
DTSTAMP:20260422T190314
CREATED:20260106T135143Z
LAST-MODIFIED:20260106T135143Z
UID:15324-1778198400-1778371199@cordelemotorspeedway.com
SUMMARY:Must See Racing Sprint Car Series
DESCRIPTION:Featuring Winged Sprint Cars\, Crown Vics\, Pure Stocks\, Legends\, Bandoleros\, Enduros\, Mini Stocks
URL:https://cordelemotorspeedway.com/event/must-see-racing-sprint-car-series/
END:VEVENT
BEGIN:VEVENT
DTSTART;VALUE=DATE:20260529
DTEND;VALUE=DATE:20260531
DTSTAMP:20260422T190314
CREATED:20260106T135215Z
LAST-MODIFIED:20260106T135215Z
UID:15323-1780012800-1780185599@cordelemotorspeedway.com
SUMMARY:SuperFest Race #3 (Double Points For Largest Local Class)
DESCRIPTION:Featuring Super Late Models\, Pro Trucks\, Outlaws\, Enduros\, Mini Stocks\, Legends\, Bandoleros\, & Pure Stocks
URL:https://cordelemotorspeedway.com/event/superfest-race-3-double-points-for-largest-local-class/
END:VEVENT
BEGIN:VEVENT
DTSTART;VALUE=DATE:20260619
DTEND;VALUE=DATE:20260621
DTSTAMP:20260422T190314
CREATED:20260106T135246Z
LAST-MODIFIED:20260106T135246Z
UID:15322-1781827200-1781999999@cordelemotorspeedway.com
SUMMARY:Watermelon National Classic
DESCRIPTION:Featuring Pro Late Models\, Pure Stocks\, Crown Vics\, Mini Stocks\, Legends\, Bandoleros\, & Enduros
URL:https://cordelemotorspeedway.com/event/watermelon-national-classic-2/
END:VEVENT
BEGIN:VEVENT
DTSTART;VALUE=DATE:20260626
DTEND;VALUE=DATE:20260628
DTSTAMP:20260422T190314
CREATED:20260106T135318Z
LAST-MODIFIED:20260106T135318Z
UID:15321-1782432000-1782604799@cordelemotorspeedway.com
SUMMARY:Legend Double Feature All Star Showdown
DESCRIPTION:Featuring Pro Trucks\, Outlaws\, Legends\, Enduros\, Bandoleros\, Pure Stocks\, Mini Stocks
URL:https://cordelemotorspeedway.com/event/legend-double-feature-all-star-showdown/
END:VEVENT
BEGIN:VEVENT
DTSTART;VALUE=DATE:20260703
DTEND;VALUE=DATE:20260705
DTSTAMP:20260422T190314
CREATED:20260106T135356Z
LAST-MODIFIED:20260106T135356Z
UID:15320-1783036800-1783209599@cordelemotorspeedway.com
SUMMARY:Fireworks 5K Sole of the Nation (Double Points for Legends)
DESCRIPTION:Featuring Pro Trucks\, Outlaws\, Enduros\, Mini Stocks\, Pure Stocks\, Legends\, Bandoleros\, & Crown Vics
URL:https://cordelemotorspeedway.com/event/fireworks-5k-sole-of-the-nation-double-points-for-legends/
END:VEVENT
BEGIN:VEVENT
DTSTART;VALUE=DATE:20260717
DTEND;VALUE=DATE:20260719
DTSTAMP:20260422T190314
CREATED:20260106T135424Z
LAST-MODIFIED:20260106T135424Z
UID:15319-1784246400-1784419199@cordelemotorspeedway.com
SUMMARY:Summer Sizzler (Double Points For Largest Class)
DESCRIPTION:Pro Late Models\, Pure Stocks\, Crown Vics\, Mini Stocks\, Legends\, Bandoleros\, & Enduros
URL:https://cordelemotorspeedway.com/event/summer-sizzler-double-points-for-largest-class/
END:VEVENT
BEGIN:VEVENT
DTSTART;VALUE=DATE:20260731
DTEND;VALUE=DATE:20260802
DTSTAMP:20260422T190314
CREATED:20260106T135458Z
LAST-MODIFIED:20260106T135458Z
UID:15318-1785456000-1785628799@cordelemotorspeedway.com
SUMMARY:14th Annual Georgia Summer Nationals SuperFest & Southern Super Series
DESCRIPTION:Featuring Super Late Models\, Modifieds of Mayhem\, Pro Trucks\, Outlaws\, Enduros\, Legends\, and Bandoleros
URL:https://cordelemotorspeedway.com/event/14th-annual-georgia-summer-nationals-superfest-southern-super-series/
END:VEVENT
BEGIN:VEVENT
DTSTART;VALUE=DATE:20260814
DTEND;VALUE=DATE:20260816
DTSTAMP:20260422T190314
CREATED:20260106T135534Z
LAST-MODIFIED:20260106T135534Z
UID:15317-1786665600-1786838399@cordelemotorspeedway.com
SUMMARY:Cordele's Fast and the Curious (Double Points for Largest Class)
DESCRIPTION:Featuring Pro Trucks\, Outlaws\, Enduros\, Mini Stocks\, Pure Stocks\, Legends\, Bandoleros\, & Crown Vics
URL:https://cordelemotorspeedway.com/event/cordeles-fast-and-the-curious-double-points-for-largest-class/
END:VEVENT
BEGIN:VEVENT
DTSTART;VALUE=DATE:20260904
DTEND;VALUE=DATE:20260906
DTSTAMP:20260422T190314
CREATED:20260106T135558Z
LAST-MODIFIED:20260106T135558Z
UID:15316-1788480000-1788652799@cordelemotorspeedway.com
SUMMARY:Cordele's Autumn Thunder (Double Points For Largest Class)
DESCRIPTION:Featuring Pro Trucks\, Outlaws\, Mini Stocks\, Pure Stocks\, Enduros\, Legends\, Bandoleros\, & Crown Vics
URL:https://cordelemotorspeedway.com/event/cordeles-autumn-thunder-double-points-for-largest-class/
END:VEVENT
BEGIN:VEVENT
DTSTART;VALUE=DATE:20260918
DTEND;VALUE=DATE:20260920
DTSTAMP:20260422T190314
CREATED:20260106T135623Z
LAST-MODIFIED:20260106T135623Z
UID:15315-1789689600-1789862399@cordelemotorspeedway.com
SUMMARY:Cordele Motor Speedway Championship Night
DESCRIPTION:Featuring Pro Trucks\, Outlaws\, Enduros\, Mini Stocks\, Pure Stocks\, Legends\, Bandoleros\, & Crown Vics
URL:https://cordelemotorspeedway.com/event/cordele-motor-speedway-championship-night/
END:VEVENT
BEGIN:VEVENT
DTSTART;VALUE=DATE:20261023
DTEND;VALUE=DATE:20261025
DTSTAMP:20260422T190314
CREATED:20260106T135659Z
LAST-MODIFIED:20260106T135659Z
UID:15314-1792713600-1792886399@cordelemotorspeedway.com
SUMMARY:World Crown 300 SuperFest Series & Southern Super Series
DESCRIPTION:Featuring Late Models & Pro Late Models
URL:https://cordelemotorspeedway.com/event/world-crown-300-superfest-series-southern-super-series/
END:VEVENT
END:VCALENDAR